BEGIN:VCALENDAR
VERSION:2.0
PRODID:-//Bluegrass Cash - ECPv6.15.20//NONSGML v1.0//EN
CALSCALE:GREGORIAN
METHOD:PUBLISH
X-WR-CALNAME:Bluegrass Cash
X-ORIGINAL-URL:https://bluegrasscash.de
X-WR-CALDESC:Veranstaltungen für Bluegrass Cash
REFRESH-INTERVAL;VALUE=DURATION:PT1H
X-Robots-Tag:noindex
X-PUBLISHED-TTL:PT1H
BEGIN:VTIMEZONE
TZID:Europe/Berlin
BEGIN:DAYLIGHT
TZOFFSETFROM:+0100
TZOFFSETTO:+0200
TZNAME:CEST
DTSTART:20250330T010000
END:DAYLIGHT
BEGIN:STANDARD
TZOFFSETFROM:+0200
TZOFFSETTO:+0100
TZNAME:CET
DTSTART:20251026T010000
END:STANDARD
BEGIN:DAYLIGHT
TZOFFSETFROM:+0100
TZOFFSETTO:+0200
TZNAME:CEST
DTSTART:20260329T010000
END:DAYLIGHT
BEGIN:STANDARD
TZOFFSETFROM:+0200
TZOFFSETTO:+0100
TZNAME:CET
DTSTART:20261025T010000
END:STANDARD
BEGIN:DAYLIGHT
TZOFFSETFROM:+0100
TZOFFSETTO:+0200
TZNAME:CEST
DTSTART:20270328T010000
END:DAYLIGHT
BEGIN:STANDARD
TZOFFSETFROM:+0200
TZOFFSETTO:+0100
TZNAME:CET
DTSTART:20271031T010000
END:STANDARD
END:VTIMEZONE
BEGIN:VEVENT
DTSTART;VALUE=DATE:20260424
DTEND;VALUE=DATE:20260426
DTSTAMP:20260424T122553
CREATED:20260204T211130Z
LAST-MODIFIED:20260204T211130Z
UID:169-1777010400-1777096799@bluegrasscash.de
SUMMARY:Ravensburg\, @zehntscheuer_rv
DESCRIPTION:
URL:https://bluegrasscash.de/event/ravensburg-zehntscheuer_rv/
LOCATION:Zehntscheuer Ravensburg\, Grüner-Turm-Str. 30\, Ravensburg\, 88212\, Germany
END:VEVENT
END:VCALENDAR