BEGIN:VCALENDAR
VERSION:2.0
PRODID:-//Bluegrass Cash - ECPv6.15.20//NONSGML v1.0//EN
CALSCALE:GREGORIAN
METHOD:PUBLISH
X-ORIGINAL-URL:https://bluegrasscash.de
X-WR-CALDESC:Veranstaltungen für Bluegrass Cash
REFRESH-INTERVAL;VALUE=DURATION:PT1H
X-Robots-Tag:noindex
X-PUBLISHED-TTL:PT1H
BEGIN:VTIMEZONE
TZID:Europe/Berlin
BEGIN:DAYLIGHT
TZOFFSETFROM:+0100
TZOFFSETTO:+0200
TZNAME:CEST
DTSTART:20250330T010000
END:DAYLIGHT
BEGIN:STANDARD
TZOFFSETFROM:+0200
TZOFFSETTO:+0100
TZNAME:CET
DTSTART:20251026T010000
END:STANDARD
BEGIN:DAYLIGHT
TZOFFSETFROM:+0100
TZOFFSETTO:+0200
TZNAME:CEST
DTSTART:20260329T010000
END:DAYLIGHT
BEGIN:STANDARD
TZOFFSETFROM:+0200
TZOFFSETTO:+0100
TZNAME:CET
DTSTART:20261025T010000
END:STANDARD
BEGIN:DAYLIGHT
TZOFFSETFROM:+0100
TZOFFSETTO:+0200
TZNAME:CEST
DTSTART:20270328T010000
END:DAYLIGHT
BEGIN:STANDARD
TZOFFSETFROM:+0200
TZOFFSETTO:+0100
TZNAME:CET
DTSTART:20271031T010000
END:STANDARD
END:VTIMEZONE
BEGIN:VEVENT
DTSTART;VALUE=DATE:20260109
DTEND;VALUE=DATE:20260111
DTSTAMP:20260424T160329
CREATED:20260204T205531Z
LAST-MODIFIED:20260204T205531Z
UID:155-1767938400-1768024799@bluegrasscash.de
SUMMARY:Bonn\, @harmoniebonn
DESCRIPTION:
URL:https://bluegrasscash.de/event/bonn-harmoniebonn/
LOCATION:Harmonie Bonn\, Frongasse 28-30\, Bonn\, 53121
END:VEVENT
BEGIN:VEVENT
DTSTART;TZID=Europe/Berlin:20260109T190000
DTEND;TZID=Europe/Berlin:20260109T230000
DTSTAMP:20260424T160329
CREATED:20251116T192735Z
LAST-MODIFIED:20251116T192735Z
UID:121-1767985200-1767999600@bluegrasscash.de
SUMMARY:2. Bonner Festival of Americana and Bluegrass Music
DESCRIPTION:
URL:https://bluegrasscash.de/event/2-bonner-festival-of-americana-and-bluegrass-music/
LOCATION:Harmonie Bonn\, Frongasse 28-30\, Bonn\, 53121
END:VEVENT
BEGIN:VEVENT
DTSTART;VALUE=DATE:20260124
DTEND;VALUE=DATE:20260126
DTSTAMP:20260424T160329
CREATED:20260204T205833Z
LAST-MODIFIED:20260204T205833Z
UID:157-1769234400-1769320799@bluegrasscash.de
SUMMARY:Meckenbeuren\, Kultur am Gleis 1
DESCRIPTION:
URL:https://bluegrasscash.de/event/meckenbeuren-kultur-am-gleis-1/
LOCATION:Kultur am Gleis 1\, Bahnhof 2\, Meckenbeuren\, 88074\, Germany
END:VEVENT
END:VCALENDAR