BEGIN:VCALENDAR
VERSION:2.0
PRODID:-//Bluegrass Cash - ECPv6.15.20//NONSGML v1.0//EN
CALSCALE:GREGORIAN
METHOD:PUBLISH
X-WR-CALNAME:Bluegrass Cash
X-ORIGINAL-URL:https://bluegrasscash.de
X-WR-CALDESC:Veranstaltungen für Bluegrass Cash
REFRESH-INTERVAL;VALUE=DURATION:PT1H
X-Robots-Tag:noindex
X-PUBLISHED-TTL:PT1H
BEGIN:VTIMEZONE
TZID:Europe/Berlin
BEGIN:DAYLIGHT
TZOFFSETFROM:+0100
TZOFFSETTO:+0200
TZNAME:CEST
DTSTART:20250330T010000
END:DAYLIGHT
BEGIN:STANDARD
TZOFFSETFROM:+0200
TZOFFSETTO:+0100
TZNAME:CET
DTSTART:20251026T010000
END:STANDARD
BEGIN:DAYLIGHT
TZOFFSETFROM:+0100
TZOFFSETTO:+0200
TZNAME:CEST
DTSTART:20260329T010000
END:DAYLIGHT
BEGIN:STANDARD
TZOFFSETFROM:+0200
TZOFFSETTO:+0100
TZNAME:CET
DTSTART:20261025T010000
END:STANDARD
BEGIN:DAYLIGHT
TZOFFSETFROM:+0100
TZOFFSETTO:+0200
TZNAME:CEST
DTSTART:20270328T010000
END:DAYLIGHT
BEGIN:STANDARD
TZOFFSETFROM:+0200
TZOFFSETTO:+0100
TZNAME:CET
DTSTART:20271031T010000
END:STANDARD
END:VTIMEZONE
BEGIN:VEVENT
DTSTART;VALUE=DATE:20260613
DTEND;VALUE=DATE:20260615
DTSTAMP:20260422T141048
CREATED:20260204T212740Z
LAST-MODIFIED:20260204T213714Z
UID:187-1781330400-1781416799@bluegrasscash.de
SUMMARY:Bocholt\, Alte Molkerei
DESCRIPTION:
URL:https://bluegrasscash.de/event/bocholt-alte-molkerei/
LOCATION:Kulturort Alte Molkerei\, Werther Straße 16\, Bocholt\, 46395\, Germany
END:VEVENT
BEGIN:VEVENT
DTSTART;VALUE=DATE:20260627
DTEND;VALUE=DATE:20260629
DTSTAMP:20260422T141048
CREATED:20260204T212819Z
LAST-MODIFIED:20260204T212819Z
UID:190-1782540000-1782626399@bluegrasscash.de
SUMMARY:Vaals (NL)\, De Kopermolen
DESCRIPTION:
URL:https://bluegrasscash.de/event/vaals-nl-de-kopermolen/
END:VEVENT
END:VCALENDAR